BEGIN:VCALENDAR
VERSION:2.0
PRODID:-//usingerjaeger - ECPv6.15.20//NONSGML v1.0//EN
CALSCALE:GREGORIAN
METHOD:PUBLISH
X-WR-CALNAME:usingerjaeger
X-ORIGINAL-URL:https://usingerjaeger.de
X-WR-CALDESC:Veranstaltungen für usingerjaeger
REFRESH-INTERVAL;VALUE=DURATION:PT1H
X-Robots-Tag:noindex
X-PUBLISHED-TTL:PT1H
BEGIN:VTIMEZONE
TZID:Europe/Berlin
BEGIN:DAYLIGHT
TZOFFSETFROM:+0100
TZOFFSETTO:+0200
TZNAME:CEST
DTSTART:20240331T010000
END:DAYLIGHT
BEGIN:STANDARD
TZOFFSETFROM:+0200
TZOFFSETTO:+0100
TZNAME:CET
DTSTART:20241027T010000
END:STANDARD
BEGIN:DAYLIGHT
TZOFFSETFROM:+0100
TZOFFSETTO:+0200
TZNAME:CEST
DTSTART:20250330T010000
END:DAYLIGHT
BEGIN:STANDARD
TZOFFSETFROM:+0200
TZOFFSETTO:+0100
TZNAME:CET
DTSTART:20251026T010000
END:STANDARD
BEGIN:DAYLIGHT
TZOFFSETFROM:+0100
TZOFFSETTO:+0200
TZNAME:CEST
DTSTART:20260329T010000
END:DAYLIGHT
BEGIN:STANDARD
TZOFFSETFROM:+0200
TZOFFSETTO:+0100
TZNAME:CET
DTSTART:20261025T010000
END:STANDARD
END:VTIMEZONE
BEGIN:VEVENT
DTSTART;TZID=Europe/Berlin:20250504T100000
DTEND;TZID=Europe/Berlin:20250504T130000
DTSTAMP:20260425T191526
CREATED:20250428T102004Z
LAST-MODIFIED:20250505T121333Z
UID:2472-1746352800-1746363600@usingerjaeger.de
SUMMARY:Wildkräuterwanderung
DESCRIPTION:Am Sonntag den 4. Mai 2025 ab 10 Uhr findet eine ca. 2 bis 3-stündige Wildkräuterwanderung statt. Sie wird geleitet von Klaudia Landahl\, Kräuter- und Erlebnispädagogin\, aus dem Saarland. Klaudia und ich haben uns vor einigen Jahren bei einer Ethnobotanik-Ausbildung kennengelernt. Ihr Wissen zu Wildkräutern (landläufig auch Unkräuter genannt)\, zur Verwendung in der Küche\, Botanisches\, Historisches und Volkskundliches haben bereits damals einen großen Eindruck auf mich hinterlassen. \n  \nWildkräuter stärken das Immunsystem\, schenken Gesundheit und machen glücklich. Die Verbindung mit der Natur ist vielen verloren gegangen und es ist Klaudia ein großes Anliegen\, diese Verbindung wieder herzustellen. \n  \nWer Lust hat auf einen Spaziergang durch die Natur mit ihr und den vielen heimischen Wildpflanzen\, meldet sich bitte telefonisch\, per Whatsapp oder per Mail bei mir (ina.joachim@web.de. Da die Teilnehmerzahl auf 20 begrenzt ist\, bitte unbedingt anmelden. Treffpunkt ist der Parkplatz am Meerpfuhl\, an der B 275. \n  \nBitte wetterfest und mit entsprechendem Schuhwerk kleiden. Es handelt sich um gemütliches Gehen und Verweilen\, keine Wanderung über Stock und Stein. \n  \nDie Veranstaltung findet auf Spendenbasis statt. \n  \nWeitere Veranstaltungen mit Klaudia und vor allem auch wunderschöne Pflanzenfotos von ihr findet man auf ihrer Webseite www.klaudia-landahl-kraeuterpaedagogin.de \n  \nIna Joachim
URL:https://usingerjaeger.de/event/wildkraeuterwanderung
LOCATION:Parkplatz am Meerpfuhl B275\, 50.31523687953605\, 8.450402749457922
END:VEVENT
END:VCALENDAR