BEGIN:VCALENDAR
VERSION:2.0
PRODID:-//usingerjaeger - ECPv6.15.20//NONSGML v1.0//EN
CALSCALE:GREGORIAN
METHOD:PUBLISH
X-WR-CALNAME:usingerjaeger
X-ORIGINAL-URL:https://usingerjaeger.de
X-WR-CALDESC:Veranstaltungen für usingerjaeger
REFRESH-INTERVAL;VALUE=DURATION:PT1H
X-Robots-Tag:noindex
X-PUBLISHED-TTL:PT1H
BEGIN:VTIMEZONE
TZID:Europe/Berlin
BEGIN:DAYLIGHT
TZOFFSETFROM:+0100
TZOFFSETTO:+0200
TZNAME:CEST
DTSTART:20240331T010000
END:DAYLIGHT
BEGIN:STANDARD
TZOFFSETFROM:+0200
TZOFFSETTO:+0100
TZNAME:CET
DTSTART:20241027T010000
END:STANDARD
BEGIN:DAYLIGHT
TZOFFSETFROM:+0100
TZOFFSETTO:+0200
TZNAME:CEST
DTSTART:20250330T010000
END:DAYLIGHT
BEGIN:STANDARD
TZOFFSETFROM:+0200
TZOFFSETTO:+0100
TZNAME:CET
DTSTART:20251026T010000
END:STANDARD
BEGIN:DAYLIGHT
TZOFFSETFROM:+0100
TZOFFSETTO:+0200
TZNAME:CEST
DTSTART:20260329T010000
END:DAYLIGHT
BEGIN:STANDARD
TZOFFSETFROM:+0200
TZOFFSETTO:+0100
TZNAME:CET
DTSTART:20261025T010000
END:STANDARD
END:VTIMEZONE
BEGIN:VEVENT
DTSTART;TZID=Europe/Berlin:20251206T090000
DTEND;TZID=Europe/Berlin:20251206T170000
DTSTAMP:20260423T010730
CREATED:20250702T120337Z
LAST-MODIFIED:20250702T120801Z
UID:2515-1765011600-1765040400@usingerjaeger.de
SUMMARY:„Wildseminar im Jägerhof“
DESCRIPTION:Wildschwein zerlegen und verarbeiten am 6. Dezember 2025 \nWir werden ein Wildschwein zerwirken und aus dem Wildschwein Schinken und Wildwurst selber machen. Wir lernen alles\, um zu Hause Wildwurst selber herstellen zu können und wie man ein Wildschwein zerwirkt. \nEin Paket mit der selbstgemachten Wildwurst ist ebenso im Preis von 215 € inbegriffen wie Speisen und Getränke während des Seminares sowie ein gemeinsamer Ausflug\, z. B. Besichtigung und Verköstigung in der Schlitzer Brennerei. Die Buchung einer Übernachtung ist empfehlenswert. \nFür die Usinger Jäger haben wir den 06.12.2025 für einen möglichen Exklusivtermin reserviert. Das Seminar ist auf 8 – 12 Teilnehmer beschränkt. Ihre Buchung richten Sie bitte mit Bezug auf die „Usinger Jäger“ vor Ende August unmittelbar an schmidt@jaegerhof-maar.de
URL:https://usingerjaeger.de/event/wildseminar-im-jaegerhof
LOCATION:Jägerhof Maar\, Hauptstraße 9\, Lauterbach\, Hessen\, 36341\, Germany
END:VEVENT
END:VCALENDAR