BEGIN:VCALENDAR
VERSION:2.0
PRODID:-//usingerjaeger - ECPv6.15.20//NONSGML v1.0//EN
CALSCALE:GREGORIAN
METHOD:PUBLISH
X-ORIGINAL-URL:https://usingerjaeger.de
X-WR-CALDESC:Veranstaltungen für usingerjaeger
REFRESH-INTERVAL;VALUE=DURATION:PT1H
X-Robots-Tag:noindex
X-PUBLISHED-TTL:PT1H
BEGIN:VTIMEZONE
TZID:Europe/Berlin
BEGIN:DAYLIGHT
TZOFFSETFROM:+0100
TZOFFSETTO:+0200
TZNAME:CEST
DTSTART:20250330T010000
END:DAYLIGHT
BEGIN:STANDARD
TZOFFSETFROM:+0200
TZOFFSETTO:+0100
TZNAME:CET
DTSTART:20251026T010000
END:STANDARD
BEGIN:DAYLIGHT
TZOFFSETFROM:+0100
TZOFFSETTO:+0200
TZNAME:CEST
DTSTART:20260329T010000
END:DAYLIGHT
BEGIN:STANDARD
TZOFFSETFROM:+0200
TZOFFSETTO:+0100
TZNAME:CET
DTSTART:20261025T010000
END:STANDARD
BEGIN:DAYLIGHT
TZOFFSETFROM:+0100
TZOFFSETTO:+0200
TZNAME:CEST
DTSTART:20270328T010000
END:DAYLIGHT
BEGIN:STANDARD
TZOFFSETFROM:+0200
TZOFFSETTO:+0100
TZNAME:CET
DTSTART:20271031T010000
END:STANDARD
END:VTIMEZONE
BEGIN:VEVENT
DTSTART;VALUE=DATE:20260119
DTEND;VALUE=DATE:20260126
DTSTAMP:20260422T230454
CREATED:20251110T165354Z
LAST-MODIFIED:20251110T165400Z
UID:2638-1768780800-1769385599@usingerjaeger.de
SUMMARY:Hegewoche im Januar 2026
DESCRIPTION:Die jährliche Hegewoche findet auch 2026 statt. \nWir bitten um rege Teilnahme.  \nBitte Anmeldung an info@usingerjaeger.de \nDer Abschluß findet am 25. Januar 2026 ab 10:00 auf dem Hof der Familie Groos statt. \n  \n 
URL:https://usingerjaeger.de/event/hegewoche-im-januar-2026
LOCATION:Hof  Familie Groos\, Usinger Strasse 2\, Neu Anspach/Westerfeld\, Hessen\, 61267\, Deutschland
END:VEVENT
END:VCALENDAR