BEGIN:VCALENDAR
VERSION:2.0
PRODID:-//usingerjaeger - ECPv6.15.20//NONSGML v1.0//EN
CALSCALE:GREGORIAN
METHOD:PUBLISH
X-WR-CALNAME:usingerjaeger
X-ORIGINAL-URL:https://usingerjaeger.de
X-WR-CALDESC:Veranstaltungen für usingerjaeger
REFRESH-INTERVAL;VALUE=DURATION:PT1H
X-Robots-Tag:noindex
X-PUBLISHED-TTL:PT1H
BEGIN:VTIMEZONE
TZID:Europe/Berlin
BEGIN:DAYLIGHT
TZOFFSETFROM:+0100
TZOFFSETTO:+0200
TZNAME:CEST
DTSTART:20250330T010000
END:DAYLIGHT
BEGIN:STANDARD
TZOFFSETFROM:+0200
TZOFFSETTO:+0100
TZNAME:CET
DTSTART:20251026T010000
END:STANDARD
BEGIN:DAYLIGHT
TZOFFSETFROM:+0100
TZOFFSETTO:+0200
TZNAME:CEST
DTSTART:20260329T010000
END:DAYLIGHT
BEGIN:STANDARD
TZOFFSETFROM:+0200
TZOFFSETTO:+0100
TZNAME:CET
DTSTART:20261025T010000
END:STANDARD
BEGIN:DAYLIGHT
TZOFFSETFROM:+0100
TZOFFSETTO:+0200
TZNAME:CEST
DTSTART:20270328T010000
END:DAYLIGHT
BEGIN:STANDARD
TZOFFSETFROM:+0200
TZOFFSETTO:+0100
TZNAME:CET
DTSTART:20271031T010000
END:STANDARD
END:VTIMEZONE
BEGIN:VEVENT
DTSTART;TZID=Europe/Berlin:20260312T090000
DTEND;TZID=Europe/Berlin:20260312T170000
DTSTAMP:20260424T121604
CREATED:20250723T125702Z
LAST-MODIFIED:20250723T125702Z
UID:2581-1773306000-1773334800@usingerjaeger.de
SUMMARY:Wildschadensseminar am 12.03.2026 in Friedrichsdorf
DESCRIPTION:Wildschadensseminar am 12.03.2026 in Friedrichsdorf\n\n\nvon Hessische Landvolk-Hochschule\n\n\n\n\nAnmeldung bis zum 5.März ist erwünscht. \nInhalte des Seminars sind: \nWild- und Jagdschaden\n– Kurzübersicht Jagdrecht\n– Art und Umfang\, Beteiligte\, Schadensersatzminderungspflicht\n– Durchführung des Vorverfahrens\, Folgen von Verfahrensfehlern\n– Gerichtliches Verfahren\, Durchsetzung der titulierten Ansprüche \nWildschadensschätzung\n– theoretische Grundlagen\n– praktische Durchführung \nDie praktische Durchführung der Wildschadensschätzung ist als Exkursion geplant. Festes Schuhwerk wird empfohlen. \nReferenten:               \nDr. Volker Wolfram\, öffentlich bestellter und vereidigter landwirtschaftlicher Sachverständiger Rechtsanwalt Björn Schöbel\, Geschäftsführer des Verbands der Jagdgenossenschaften und Eigenjagdbesitzer in Hessen e.V. (VJEH) \nSeminargebühr:        175\,00 Euro p. P. inkl. Verpflegung und ein Skriptum zum Wildschadensersatz \nDie Seminargebühr für Mitglieder dem Verband der Jagdgenossenschaften und Eigenjagdbesitzer in Hessen e.V. (VJEH) angeschlossener Jagdgenossenschaften/Eigenjagdbesitzer beträgt 115\,00 Euro pro Person. Bitte fügen Sie Ihrer Anmeldung einen entsprechenden Nachweis über die Mitgliedschaft bei. \nDieses Seminar ist eine Kooperationsveranstaltung mit dem Verband der Jagdgenossenschaften und Eigenjagdbesitzer in Hessen e. V. \n\nAnmeldung:  Anmeldung Wildschadensseminar 2025-2026
URL:https://usingerjaeger.de/event/wildschadensseminar-am-12-03-2026-in-friedrichsdorf
LOCATION:Taunus Tagungshotel\, Lochmühlenweg 3\, Friedrichsdorf\, Hessen\, 61381\, Deutschland
ORGANIZER;CN="Verein f%C3%BCr Landvolkbildung e.V.":MAILTO:a.fay@agrinet.de
END:VEVENT
END:VCALENDAR