BEGIN:VCALENDAR
VERSION:2.0
PRODID:-//usingerjaeger - ECPv6.15.20//NONSGML v1.0//EN
CALSCALE:GREGORIAN
METHOD:PUBLISH
X-ORIGINAL-URL:https://usingerjaeger.de
X-WR-CALDESC:Veranstaltungen für usingerjaeger
REFRESH-INTERVAL;VALUE=DURATION:PT1H
X-Robots-Tag:noindex
X-PUBLISHED-TTL:PT1H
BEGIN:VTIMEZONE
TZID:Europe/Berlin
BEGIN:DAYLIGHT
TZOFFSETFROM:+0100
TZOFFSETTO:+0200
TZNAME:CEST
DTSTART:20250330T010000
END:DAYLIGHT
BEGIN:STANDARD
TZOFFSETFROM:+0200
TZOFFSETTO:+0100
TZNAME:CET
DTSTART:20251026T010000
END:STANDARD
BEGIN:DAYLIGHT
TZOFFSETFROM:+0100
TZOFFSETTO:+0200
TZNAME:CEST
DTSTART:20260329T010000
END:DAYLIGHT
BEGIN:STANDARD
TZOFFSETFROM:+0200
TZOFFSETTO:+0100
TZNAME:CET
DTSTART:20261025T010000
END:STANDARD
BEGIN:DAYLIGHT
TZOFFSETFROM:+0100
TZOFFSETTO:+0200
TZNAME:CEST
DTSTART:20270328T010000
END:DAYLIGHT
BEGIN:STANDARD
TZOFFSETFROM:+0200
TZOFFSETTO:+0100
TZNAME:CET
DTSTART:20271031T010000
END:STANDARD
END:VTIMEZONE
BEGIN:VEVENT
DTSTART;TZID=Europe/Berlin:20260319T190000
DTEND;TZID=Europe/Berlin:20260319T230000
DTSTAMP:20260422T194959
CREATED:20260224T141053Z
LAST-MODIFIED:20260224T141148Z
UID:2695-1773946800-1773961200@usingerjaeger.de
SUMMARY:Jahreshauptversammlung 2026
DESCRIPTION:Einladung zur ordentlichen Jahreshauptversammlung 2026\nSehr geehrte Damen und Herren\, \nhiermit laden wir Sie gemäß §10 Abs. 1 der Satzung zur ordentlichen Jahreshauptversammlung 2026 ein. Die Jahreshauptversammlung findet statt \nam Donnerstag\, den 19. März 2026\, 19:00 Uhr \nim Bürgerhaus Wehrheim\, Am Bürgerhaus\, 61273 Wehrheim. \nTagesordnung \n1. Begrüßung und Feststellung der satzungsgemäßen Einladung \n2. Grußwort (Dr. Nikolaus Bretschneider LJV) \n3. Totengedenken \n4. Jahresbericht des Gesamtvorstandes \n3.1 des Vorsitzenden\, Frank Cernic \n3.2 des Obmanns für Jungjäger\, Stefan Kremer \n3.3 der Obfrau für Jagdgebrauchshundewesen\, Nicole Engelmann-Erwe \n3.4 des Obmanns für jagdliches Schießen\, Peter Bayer \n3.5 des Obmanns für das Jagdhornblasen\, Uli Kremer \n3.6 der Obfrau für Veranstaltungen\, Manuela Groos \n3.7 des Obmanns für Öffentlichkeitsarbeit\, Eberhard Faust \n3.8 des Obmanns für Naturschutz\, Dirk Recknagel \n3.9 der Obfrau für Lernort Natur\, Margarita Nekarda \n3.10 der Obfrau für Digitale Medien\, Susan Sawallisch \n5. Bericht des Schatzmeisters\, Christian Englisch \n6. Bericht des Ehrenrates \n7. Aussprache zu den Jahresberichten \n8. Bericht der Rechnungsprüfer \n9. Entlastung des Vorstandes \n10. Vorstandswahlen \n● Geschäftsführender Vorstand \ni. Vorsitzender \nii. Stellvertretender Vorsitzender \niii. Schriftführer \niv. Schatzmeister \n● Erweiterter Vorstand Obmann / Obfrau für \ni. Jungjäger \nii. Jagdgebrauchshundewesen \niii. Jagdliches Schießen \niv. Jagdhornblasen \nv. Veranstaltungen \nvi. Öffentlichkeitsarbeit \nvii. Naturschutz \nviii. Lernort Natur \nix. Digitale Medien \n11. Ehrungen \n12. Verschiedenes \nAnträge für die Jahreshauptversammlung müssen spätestens am 11. März 2026 dem Vorstand schriftlich vorliegen. \nJedes Mitglied kann sich bei der Jahreshauptversammlung durch ein anderes Mitglied mit schriftlicher Vollmacht vertreten lassen. Jedes Mitglied kann höchstens ein nicht anwesendes Mitglied vertreten. Außerordentliche Mitglieder haben kein Stimmrecht. \nMit freundlichen Grüßen und Waidmannsheil \nFrank Cernic \nVorsitzender
URL:https://usingerjaeger.de/event/jahreshauptversammlung-2026
LOCATION:Bürgerhaus Wehrheim\, Am Bürgerhaus 1\, Wehrheim\, Hessen\, 61273\, Deutschland
END:VEVENT
END:VCALENDAR