BEGIN:VCALENDAR
VERSION:2.0
PRODID:-//usingerjaeger - ECPv6.15.20//NONSGML v1.0//EN
CALSCALE:GREGORIAN
METHOD:PUBLISH
X-ORIGINAL-URL:https://usingerjaeger.de
X-WR-CALDESC:Veranstaltungen für usingerjaeger
REFRESH-INTERVAL;VALUE=DURATION:PT1H
X-Robots-Tag:noindex
X-PUBLISHED-TTL:PT1H
BEGIN:VTIMEZONE
TZID:Europe/Berlin
BEGIN:DAYLIGHT
TZOFFSETFROM:+0100
TZOFFSETTO:+0200
TZNAME:CEST
DTSTART:20250330T010000
END:DAYLIGHT
BEGIN:STANDARD
TZOFFSETFROM:+0200
TZOFFSETTO:+0100
TZNAME:CET
DTSTART:20251026T010000
END:STANDARD
BEGIN:DAYLIGHT
TZOFFSETFROM:+0100
TZOFFSETTO:+0200
TZNAME:CEST
DTSTART:20260329T010000
END:DAYLIGHT
BEGIN:STANDARD
TZOFFSETFROM:+0200
TZOFFSETTO:+0100
TZNAME:CET
DTSTART:20261025T010000
END:STANDARD
BEGIN:DAYLIGHT
TZOFFSETFROM:+0100
TZOFFSETTO:+0200
TZNAME:CEST
DTSTART:20270328T010000
END:DAYLIGHT
BEGIN:STANDARD
TZOFFSETFROM:+0200
TZOFFSETTO:+0100
TZNAME:CET
DTSTART:20271031T010000
END:STANDARD
END:VTIMEZONE
BEGIN:VEVENT
DTSTART;TZID=Europe/Berlin:20260613T093000
DTEND;TZID=Europe/Berlin:20260613T153000
DTSTAMP:20260424T185656
CREATED:20260424T131714Z
LAST-MODIFIED:20260424T131719Z
UID:2742-1781343000-1781364600@usingerjaeger.de
SUMMARY:Erste-Hilfe- Kurs für Jagdgebrauchshunde in der Jägervereinigung Usingen e.V
DESCRIPTION:Im Jagdbetrieb\, besonders auf der Nachsuche und bei Drückjagden sind unsere vierläufigen Helfer einem hohen Verletzungsrisiko ausgesetzt. Was ist in einem solchen Fall zu tun?  \nWieder konnten die Tierärztin und aktive Jagdgebrauchshundeführerin Miriam Loos\, gewinnen über dieses spezielle Themengebiet zu referieren. \nThemen an diesem Tag sind:\nErkennen und Einschätzen von (lebensbedrohlichen) Notfällen\nAnatomische Grundlagen\nVorgehen bei Schockzuständen\nVersorgung von Wunden und Verletzungen versch. Herkunft\nVerbandslehre\nVerhalten bei Herz-Kreislauf-Stillstand\nPraktische Übungen am lebenden Hund und Modell \nDie Teilnahmegebühr von 40\,00 € für Vereinsmitglieder für Nichtmitglieder 50\,00 € pro Teilnehmer werden am 13. Juni 2026 in bar an Miriam Loos direkt entrichtet. Die Seminarunterlagen werden nach dem Kurs digital zur Verfügung gestellt.  \nDie Teilnahme bleibt auf maximal 15 Teilnehmer beschränkt. Teilnahme nach Eingangsdatum der Anmeldungen. Die Teilnahme wird schriftlich bestätigt. \nJagdgebrauchshundeführer\, Jagdgebrauchshundeführerinnen und Mitglieder der Jägervereinigung Usingen e.V. erhalten den Vorzug. \nVerbindliche\, schriftliche Anmeldungen für dieses Seminar bitte an:  \nNicole Engelmann-Erwe\nTel.: +49 1573 8755593 (telefonisch erreichbar ab 18:00\, per WhatsApp jederzeit)e-Mail: hundewesen@usingerjaeger.de \nDer Anmeldeschluß ist der 07. Juni 2025 \nNoch ein Hinweis in eigener Sache\n„Bitte bringen Sie keine eigenen Hunde mit!“\n  \nDatenschutzhinweis: Mit der Anmeldung sind Sie damit einverstanden\, dass eventuelle Bilder\, Videos\, die während des Seminars entstehen zu Vereinszwecken durch den Verein genutzt werden dürfen. Die Einwilligung erfolgt freiwillig. Sie können die Einwilligung jederzeit ganz oder teilweise mit Wirkung für die Zukunft widerrufen. Die dem Antrag zugehörigen Informationspflichten gemäß Artikel 12-14 DSGVO habe ich gelesen und zur Kenntnis genommen. Soweit die Einwilligung nicht widerrufen wird\, gilt sie zeitlich unbeschränkt. Die Einwilligung kann mit Wirkung für die Zukunft widerrufen werden. Der Widerruf der Einwilligung muss in Textform (Brief oder E-Mail) gegenüber dem Verein erfolgen. CF
URL:https://usingerjaeger.de/event/erste-hilfe-kurs-fuer-jagdgebrauchshunde-in-der-jaegervereinigung-usingen-e-v-4
LOCATION:Hof  Familie Groos\, Usinger Strasse 2\, Neu Anspach/Westerfeld\, Hessen\, 61267\, Deutschland
END:VEVENT
END:VCALENDAR