BEGIN:VCALENDAR
VERSION:2.0
PRODID:-//usingerjaeger - ECPv6.15.20//NONSGML v1.0//EN
CALSCALE:GREGORIAN
METHOD:PUBLISH
X-ORIGINAL-URL:https://usingerjaeger.de
X-WR-CALDESC:Veranstaltungen für usingerjaeger
REFRESH-INTERVAL;VALUE=DURATION:PT1H
X-Robots-Tag:noindex
X-PUBLISHED-TTL:PT1H
BEGIN:VTIMEZONE
TZID:Europe/Berlin
BEGIN:DAYLIGHT
TZOFFSETFROM:+0100
TZOFFSETTO:+0200
TZNAME:CEST
DTSTART:20240331T010000
END:DAYLIGHT
BEGIN:STANDARD
TZOFFSETFROM:+0200
TZOFFSETTO:+0100
TZNAME:CET
DTSTART:20241027T010000
END:STANDARD
BEGIN:DAYLIGHT
TZOFFSETFROM:+0100
TZOFFSETTO:+0200
TZNAME:CEST
DTSTART:20250330T010000
END:DAYLIGHT
BEGIN:STANDARD
TZOFFSETFROM:+0200
TZOFFSETTO:+0100
TZNAME:CET
DTSTART:20251026T010000
END:STANDARD
BEGIN:DAYLIGHT
TZOFFSETFROM:+0100
TZOFFSETTO:+0200
TZNAME:CEST
DTSTART:20260329T010000
END:DAYLIGHT
BEGIN:STANDARD
TZOFFSETFROM:+0200
TZOFFSETTO:+0100
TZNAME:CET
DTSTART:20261025T010000
END:STANDARD
END:VTIMEZONE
BEGIN:VEVENT
DTSTART;TZID=Europe/Berlin:20250318T080000
DTEND;TZID=Europe/Berlin:20250318T170000
DTSTAMP:20260425T210626
CREATED:20240903T123345Z
LAST-MODIFIED:20250217T152342Z
UID:2290-1742284800-1742317200@usingerjaeger.de
SUMMARY:Wildschadensseminar am 18.03.2025 in Alsfeld
DESCRIPTION:Wildschadensseminar am 18.03.2025 in Alsfeld\n\n\nvon Hessische Landvolk-Hochschule\n\n\n\n\nInhalte des Seminars sind: \nWild- und Jagdschaden\n– Kurzübersicht Jagdrecht\n– Art und Umfang\, Beteiligte\, Schadensersatzminderungspflicht\n– Durchführung des Vorverfahrens\, Folgen von Verfahrensfehlern\n– Gerichtliches Verfahren\, Durchsetzung der titulierten Ansprüche \nWildschadensschätzung\n– theoretische Grundlagen\n– praktische Durchführung \nDie praktische Durchführung der Wildschadensschätzung ist als Exkursion geplant. Festes Schuhwerk wird empfohlen. \nReferenten:               \nDr. Volker Wolfram\, öffentlich bestellter und vereidigter landwirtschaftlicher Sachverständiger Rechtsanwalt Björn Schöbel\, Geschäftsführer des Verbands der Jagdgenossenschaften und Eigenjagdbesitzer in Hessen e.V. (VJEH) \nSeminargebühr:        175\,00 Euro p. P. inkl. Verpflegung und ein Skriptum zum Wildschadensersatz \nDie Seminargebühr für Mitglieder dem Verband der Jagdgenossenschaften und Eigenjagdbesitzer in Hessen e.V. (VJEH) angeschlossener Jagdgenossenschaften/Eigenjagdbesitzer beträgt 115\,00 Euro pro Person. Bitte fügen Sie Ihrer Anmeldung einen entsprechenden Nachweis über die Mitgliedschaft bei. \nDieses Seminar ist eine Kooperationsveranstaltung mit dem Verband der Jagdgenossenschaften und Eigenjagdbesitzer in Hessen e. V. \n\nAnmeldung: Anmeldung Wildschadensseminar 2024-2025
URL:https://usingerjaeger.de/event/wildschadensseminar-am-18-03-2025
LOCATION:Hotel „Zum Schäferhof“\, Ziegenhainer Straße 30\, Alsfeld-Eudorf\, Hessen\, 36304\, Deutschland
ORGANIZER;CN="Verein f%C3%BCr Landvolkbildung e.V.":MAILTO:a.fay@agrinet.de
END:VEVENT
BEGIN:VEVENT
DTSTART;TZID=Europe/Berlin:20250320T090000
DTEND;TZID=Europe/Berlin:20250320T170000
DTSTAMP:20260425T210626
CREATED:20250217T142850Z
LAST-MODIFIED:20250217T152713Z
UID:2434-1742461200-1742490000@usingerjaeger.de
SUMMARY:Wildschadensseminar am 20.03.2025 in Friedrichsdorf
DESCRIPTION:Wildschadensseminar am 20.03.2025 in Friedrichsdorf\n\n\nvon Hessische Landvolk-Hochschule\n\n\n\n\nAnmeldung bis zum 6. März ist erwünscht. \nInhalte des Seminars sind: \nWild- und Jagdschaden\n– Kurzübersicht Jagdrecht\n– Art und Umfang\, Beteiligte\, Schadensersatzminderungspflicht\n– Durchführung des Vorverfahrens\, Folgen von Verfahrensfehlern\n– Gerichtliches Verfahren\, Durchsetzung der titulierten Ansprüche \nWildschadensschätzung\n– theoretische Grundlagen\n– praktische Durchführung \nDie praktische Durchführung der Wildschadensschätzung ist als Exkursion geplant. Festes Schuhwerk wird empfohlen. \nReferenten:               \nDr. Volker Wolfram\, öffentlich bestellter und vereidigter landwirtschaftlicher Sachverständiger Rechtsanwalt Björn Schöbel\, Geschäftsführer des Verbands der Jagdgenossenschaften und Eigenjagdbesitzer in Hessen e.V. (VJEH) \nSeminargebühr:        175\,00 Euro p. P. inkl. Verpflegung und ein Skriptum zum Wildschadensersatz \nDie Seminargebühr für Mitglieder dem Verband der Jagdgenossenschaften und Eigenjagdbesitzer in Hessen e.V. (VJEH) angeschlossener Jagdgenossenschaften/Eigenjagdbesitzer beträgt 115\,00 Euro pro Person. Bitte fügen Sie Ihrer Anmeldung einen entsprechenden Nachweis über die Mitgliedschaft bei. \nDieses Seminar ist eine Kooperationsveranstaltung mit dem Verband der Jagdgenossenschaften und Eigenjagdbesitzer in Hessen e. V. \n\nAnmeldung:  Anmeldung Wildschadensseminar 2024-2025 \n 
URL:https://usingerjaeger.de/event/wildschadensseminar-am-20-03-2025-in-friedrichsdorf
LOCATION:Taunus Tagungshotel\, Lochmühlenweg 3\, Friedrichsdorf\, Hessen\, 61381\, Deutschland
ORGANIZER;CN="Verein f%C3%BCr Landvolkbildung e.V.":MAILTO:a.fay@agrinet.de
END:VEVENT
BEGIN:VEVENT
DTSTART;TZID=Europe/Berlin:20250327T090000
DTEND;TZID=Europe/Berlin:20250327T163000
DTSTAMP:20260425T210626
CREATED:20250217T143207Z
LAST-MODIFIED:20250217T152850Z
UID:2438-1743066000-1743093000@usingerjaeger.de
SUMMARY:Jagdrechtsseminar am 27.03.2025 in Friedrichsdorf
DESCRIPTION:Jagdrechtsseminar am 27.03.2025\n\n\nvon Hessische Landvolk-Hochschule\n\n\n\n\n  \nFolgende Themen werden im Jagdrechtsseminar behandelt: \n\n\n\nGeschichte des Jagdrechts\n\n\n\n\n\n\nRechtsgrundlagen im Jagdrecht\n\n\n\n\n\n\nJagdrecht\, Jagdausübungsrecht und Revierprinzip\n\n\n\n\n\n\nGemeinschaftlicher Jagdbezirk (GJB) und Eigenjagdbezirk (EJB)\n\n\n\n\n\n\nWelche Flächen im Revier sind bejagbar?\n\n\n\n\n\n\nGJB und Jagdbogen\n\n\n\n\n\n\nEntstehung des GJB und JG\n\n\n\n\n\n\nAbrundung von Jagdbezirken\n\n\n\n\n\n\nDie Angliederungsgenossenschaft\n\n\n\n\n\n\nRechtsform der Jagdgenossenschaft\n\n\n\n\n\n\nPflichtmitgliedschaft der Jagdgenossenschaft\n\n\n\n\n\n\nJagdkataster\n\n\n\n\n\n\nRechte und Pflichten der Jagdgenossen\n\n\n\n\n\n\nOrganisation der Jagdgenossenschaft\n\n\n\n\n\n\nPlanung und Durchführung der Genossenschaftsversammlung\n\n\n\n\n\n\nWahlen und Beschlüsse in der Jagdgenossenschaft\n\n\n\n\n\n\nDas Vermögen der Jagdgenossenschaft\n\n\n\n\n\n\nDer Jagdpachtvertrag: aktuelle Vertragsmuster und Formulierungen\n\n\n\nReferent: \nRechtsanwalt Björn Schöbel\, Geschäftsführer des Verbands der Jagdgenossenschaften und Eigenjagdbesitzer in Hessen e.V. (VJEH) \nSeminargebühr:        165\,00 Euro pro Person inkl. Verpflegung und Seminarunterlagen \nDieses Seminar ist eine Kooperationsveranstaltung mit dem Verband der Jagdgenossenschaften und Eigenjagdbesitzer in Hessen e. V. \nDie Seminargebühr für Mitglieder dem Verband der Jagdgenossenschaften und Eigenjagdbesitzer in Hessen e.V. (VJEH) angeschlossener Jagdgenossenschaften/Eigenjagdbesitzer beträgt 105\,00 Euro pro Person. Bitte fügen Sie Ihrer Anmeldung einen entsprechenden Nachweis über die Mitgliedschaft bei. \n\nAnmeldung: Anmeldung Jagdrechtseminar 2024-2025
URL:https://usingerjaeger.de/event/jagdrechtsseminar-am-27-03-2025
LOCATION:Taunus Tagungshotel\, Lochmühlenweg 3\, Friedrichsdorf\, Hessen\, 61381\, Deutschland
ORGANIZER;CN="Verein f%C3%BCr Landvolkbildung e.V.":MAILTO:a.fay@agrinet.de
END:VEVENT
BEGIN:VEVENT
DTSTART;TZID=Europe/Berlin:20250328T183000
DTEND;TZID=Europe/Berlin:20250328T230000
DTSTAMP:20260425T210626
CREATED:20241230T141227Z
LAST-MODIFIED:20250225T164451Z
UID:2379-1743186600-1743202800@usingerjaeger.de
SUMMARY:Einladung zur ordentlichen Jahreshauptversammlung 2025
DESCRIPTION:Sehr geehrte Damen und Herren\,\nhiermit laden wir Sie gemäß §10 Abs. 1 der Satzung zur ordentlichen Jahreshauptversammlung 2025 ein. Sie ﬁndet statt am: \nFreitag\, den 28. März 2025\, 18:30 Uhr \nBitte beachten und vermerken Sie Termin\, Uhrzeit und Tagungsort. Eine weitere Einladung erfolgt nicht mehr. Anträge für die Jahreshauptversammlung müssen spätestens am 20. März 2025 dem Vorstand schriftlich vorliegen. \nJedes Mitglied kann sich durch ein anderes Mitglied mit schriftlicher Vollmacht vertreten lassen.\nJedes Mitglied kann höchstens ein nicht anwesendes Mitglied vertreten. Außerordentliche Mitglieder haben kein Stimmrecht. \nTagesordnung\n1. Begrüßung und Feststellung der satzungsgemäßen Einladung\n2. Totengedenken\n3. Jahresbericht des Gesamtvorstandes\n3.1 des Vorsitzenden\, Frank Cernic\n3.2 des Obmanns für Jungjäger\, Stefan Kremer\n3.3 der Obfrau für Hundewesen\, Miriam Loos\n3.4 des Obmanns für jagdliches Schießen\, Peter Bayer\n3.5 des Obmanns für das Jagdhornblasen\, Uli Kremer\n3.6 der Obfrau für Veranstaltungen\, Manuela Groos\n3.7 des Obmanns für Öﬀentlichkeitsarbeit\, Eberhard Faust\n3.8 des Obmanns für Naturschutz\, Dirk Recknagel\n3.9 der Obfrau für Lernort Natur\, Margarita Nekarda\n3.10 der Obfrau für Digitale Medien\, Susan Sawallisch\n4. Bericht des Schatzmeisters\, Chris an Englisch\n5. Aussprache zu den Jahresberichten\n6. Bericht des Landesjagdverbands\, Dr. Nikolaus Bretschneider\n7. Beiträge und Aufnahmegebühren (§7 der Satzung Abs. 1-4 sowie §10 Abs. 2)\n8. Bericht der Rechnungsprüfer\n9. Bericht des Ehrenrates\n10. Entlastung des Vorstandes\n11. Neuwahl der Rechnungsprüfer für das Geschä sjahr 2025\n12. Neuwahl erweiterter Vorstand (Obmann/Obfrau für Hundewesen)\n13. Ehrungen von Vereinsmitgliedern\n14. Verschiedenes \nMit freundlichen Grüßen und Waidmannsheil \n  \nFrank Cernic\nVorsitzender \n  \n 
URL:https://usingerjaeger.de/event/einladung-zur-ordentlichen-jahreshauptversammlung-2025
LOCATION:Landgasthof zur Eisenbahn\, Naunstädter Straße 14\, Grävenwiesbach\, Hessen\, 61279
END:VEVENT
END:VCALENDAR