BEGIN:VCALENDAR
VERSION:2.0
PRODID:-//usingerjaeger - ECPv6.15.20//NONSGML v1.0//EN
CALSCALE:GREGORIAN
METHOD:PUBLISH
X-ORIGINAL-URL:https://usingerjaeger.de
X-WR-CALDESC:Veranstaltungen für usingerjaeger
REFRESH-INTERVAL;VALUE=DURATION:PT1H
X-Robots-Tag:noindex
X-PUBLISHED-TTL:PT1H
BEGIN:VTIMEZONE
TZID:Europe/Berlin
BEGIN:DAYLIGHT
TZOFFSETFROM:+0100
TZOFFSETTO:+0200
TZNAME:CEST
DTSTART:20240331T010000
END:DAYLIGHT
BEGIN:STANDARD
TZOFFSETFROM:+0200
TZOFFSETTO:+0100
TZNAME:CET
DTSTART:20241027T010000
END:STANDARD
BEGIN:DAYLIGHT
TZOFFSETFROM:+0100
TZOFFSETTO:+0200
TZNAME:CEST
DTSTART:20250330T010000
END:DAYLIGHT
BEGIN:STANDARD
TZOFFSETFROM:+0200
TZOFFSETTO:+0100
TZNAME:CET
DTSTART:20251026T010000
END:STANDARD
BEGIN:DAYLIGHT
TZOFFSETFROM:+0100
TZOFFSETTO:+0200
TZNAME:CEST
DTSTART:20260329T010000
END:DAYLIGHT
BEGIN:STANDARD
TZOFFSETFROM:+0200
TZOFFSETTO:+0100
TZNAME:CET
DTSTART:20261025T010000
END:STANDARD
END:VTIMEZONE
BEGIN:VEVENT
DTSTART;TZID=Europe/Berlin:20250404T193000
DTEND;TZID=Europe/Berlin:20250404T213000
DTSTAMP:20260425T192303
CREATED:20250217T141205Z
LAST-MODIFIED:20250217T141210Z
UID:2427-1743795000-1743802200@usingerjaeger.de
SUMMARY:Infoabend für interessierte Hundeführer zur jagdlichen Brauchbarkeitsausbildung
DESCRIPTION:Wir teilen Ihnen mit\, dass der neue Kurs zur Erlangung der jagdlichen Brauchbarkeit für alle Jagdgebrauchshunderassen und für Mitglieder unseres Vereins am 27. April 2025 startet und mit der Prüfung im Revier Rosbach am 21. September abschließen wird.  \nHierbei wird Nicole Engelmann-Erwe von unseren fachlich exzellenten und erfahrenen Mitgliedern Michaela Fischer und Roman Lack unterstützt. \nDie Kosten für den Kurs betragen 150 EUR (ohne Schleppwild).
URL:https://usingerjaeger.de/event/infoabend-fuer-interessierte-hundefuehrer-zur-jagdlichen-brauchbarkeitsausbildung
LOCATION:Schießstand Usinger Jäger\, 8FRJ+67 Usingen\, Usingen\, Hessen\, 61250\, Deutschland
END:VEVENT
END:VCALENDAR