BEGIN:VCALENDAR
VERSION:2.0
PRODID:-//usingerjaeger - ECPv6.15.20//NONSGML v1.0//EN
CALSCALE:GREGORIAN
METHOD:PUBLISH
X-ORIGINAL-URL:https://usingerjaeger.de
X-WR-CALDESC:Veranstaltungen für usingerjaeger
REFRESH-INTERVAL;VALUE=DURATION:PT1H
X-Robots-Tag:noindex
X-PUBLISHED-TTL:PT1H
BEGIN:VTIMEZONE
TZID:Europe/Berlin
BEGIN:DAYLIGHT
TZOFFSETFROM:+0100
TZOFFSETTO:+0200
TZNAME:CEST
DTSTART:20240331T010000
END:DAYLIGHT
BEGIN:STANDARD
TZOFFSETFROM:+0200
TZOFFSETTO:+0100
TZNAME:CET
DTSTART:20241027T010000
END:STANDARD
BEGIN:DAYLIGHT
TZOFFSETFROM:+0100
TZOFFSETTO:+0200
TZNAME:CEST
DTSTART:20250330T010000
END:DAYLIGHT
BEGIN:STANDARD
TZOFFSETFROM:+0200
TZOFFSETTO:+0100
TZNAME:CET
DTSTART:20251026T010000
END:STANDARD
BEGIN:DAYLIGHT
TZOFFSETFROM:+0100
TZOFFSETTO:+0200
TZNAME:CEST
DTSTART:20260329T010000
END:DAYLIGHT
BEGIN:STANDARD
TZOFFSETFROM:+0200
TZOFFSETTO:+0100
TZNAME:CET
DTSTART:20261025T010000
END:STANDARD
END:VTIMEZONE
BEGIN:VEVENT
DTSTART;TZID=Europe/Berlin:20250504T100000
DTEND;TZID=Europe/Berlin:20250504T130000
DTSTAMP:20260425T174653
CREATED:20250428T102004Z
LAST-MODIFIED:20250505T121333Z
UID:2472-1746352800-1746363600@usingerjaeger.de
SUMMARY:Wildkräuterwanderung
DESCRIPTION:Am Sonntag den 4. Mai 2025 ab 10 Uhr findet eine ca. 2 bis 3-stündige Wildkräuterwanderung statt. Sie wird geleitet von Klaudia Landahl\, Kräuter- und Erlebnispädagogin\, aus dem Saarland. Klaudia und ich haben uns vor einigen Jahren bei einer Ethnobotanik-Ausbildung kennengelernt. Ihr Wissen zu Wildkräutern (landläufig auch Unkräuter genannt)\, zur Verwendung in der Küche\, Botanisches\, Historisches und Volkskundliches haben bereits damals einen großen Eindruck auf mich hinterlassen. \n  \nWildkräuter stärken das Immunsystem\, schenken Gesundheit und machen glücklich. Die Verbindung mit der Natur ist vielen verloren gegangen und es ist Klaudia ein großes Anliegen\, diese Verbindung wieder herzustellen. \n  \nWer Lust hat auf einen Spaziergang durch die Natur mit ihr und den vielen heimischen Wildpflanzen\, meldet sich bitte telefonisch\, per Whatsapp oder per Mail bei mir (ina.joachim@web.de. Da die Teilnehmerzahl auf 20 begrenzt ist\, bitte unbedingt anmelden. Treffpunkt ist der Parkplatz am Meerpfuhl\, an der B 275. \n  \nBitte wetterfest und mit entsprechendem Schuhwerk kleiden. Es handelt sich um gemütliches Gehen und Verweilen\, keine Wanderung über Stock und Stein. \n  \nDie Veranstaltung findet auf Spendenbasis statt. \n  \nWeitere Veranstaltungen mit Klaudia und vor allem auch wunderschöne Pflanzenfotos von ihr findet man auf ihrer Webseite www.klaudia-landahl-kraeuterpaedagogin.de \n  \nIna Joachim
URL:https://usingerjaeger.de/event/wildkraeuterwanderung
LOCATION:Parkplatz am Meerpfuhl B275\, 50.31523687953605\, 8.450402749457922
END:VEVENT
BEGIN:VEVENT
DTSTART;TZID=Europe/Berlin:20250517T080000
DTEND;TZID=Europe/Berlin:20250517T170000
DTSTAMP:20260425T174653
CREATED:20250505T123428Z
LAST-MODIFIED:20250505T123428Z
UID:2481-1747468800-1747501200@usingerjaeger.de
SUMMARY:Jagdparcoursschießen Heisterberg
DESCRIPTION:Die Jägervereinigung bietet am Samstag\, den 17. Mai\, wiederholt einen exklusiven Flintenschießtag mit fachlicher Anleitung durch den Schießlehrer Nils Otto auf dem Jagdsparcours Heisterberg bei Braunfels an\, da das Feedback aus Oktober 2024 sehr gut war und sich die Teilnehmer eine Wiederholung gewünscht haben. Wir haben im Usinger Jäger in der Oktober-Ausgabe sowie im Hessen Jäger (Ausgabe 01/2025) über den Tag berichtet. \nDie Anmeldungen gehen bitte an den Vorsitzenden der Jägervereinigung: \nEMail: vorsitzender@usingerjaeger.de \nTelefon +49 173 3455190 \nDie Teilnehmeranzahl ist auf 20 Personen begrenzt.
URL:https://usingerjaeger.de/event/jagdparcoursschiessen-heisterberg
LOCATION:JagdpacourHeisterberg\, Hof\, Heisterberger Weg\, Leun\, Hessen\, 35638\, Germany
END:VEVENT
BEGIN:VEVENT
DTSTART;TZID=Europe/Berlin:20250524T100000
DTEND;TZID=Europe/Berlin:20250524T180000
DTSTAMP:20260425T174653
CREATED:20250505T130321Z
LAST-MODIFIED:20250505T130606Z
UID:2490-1748080800-1748109600@usingerjaeger.de
SUMMARY:Hessischen Landesjägertag mit Landestrophäenschau 2025
DESCRIPTION:Der LJV Hessen lädt die hessischen Jäger zum Hessischen Landesjägertag mit Landestrophäenschau ein. \nDer Veranstaltungsort befindet sich in der Josef-Kohlmaier-Halle (Stadthalle)\, Hospitalstraße 4\, 65549 Limburg. Die Zufahrt zur Tiefgarage Stadthalle befindet sich in der Diezer Straße 15\, 65549 Limburg. Eine alternative Parkmöglichkeit bietet das Karstadt-Parkhaus in der Werner-Senger-Straße 15\, 65549 Limburg. Beide Parkhäuser liegen nur ca. 100 Meter auseinander und befinden sich unmittelbar am Veranstaltungsort. \nUm 10.00 Uhr beginnt die Repräsentative Jahreshauptversammlung des Landesjagdverbandes Hessen e. V. mit folgenden Tagesordnungpunkten: \n\nBegrüßung durch den Präsidenten des Landesjagdverbandes Hessen e. V. Prof. Dr. Jürgen Ellenberger\nAnsprache Boris Rhein\, Hessischer Ministerpräsident\nÜbergabe des hessischen Wildtierpreises (ehem. Staatsehrenpreises für Lebensraumgestaltung) durch Prof. Dr. Ellenberger und Ministerpräsident Rhein\nVerleihung der Hegemedaille Sonderstufe Gold durch Staatsminister Ingmar Jung\nGrußworte\nJagdpolitische Ausführungen des Präsidenten des LJV Hessen e. V.\n\nLandestrophäenschau\nmit Vorstellung der stärksten Trophäen von Rot-\, Dam-\, Muffel-\, Schwarz- und Rehwild aus Hessen. \nMittagspause: 13.00 Uhr \nUm 14.00 Uhr beginnt die Delegiertenversammlung – Jahreshauptversammlung 2025 des Landesjagdverbandes Hessen e. V. \nDie Delegierten aus den hessischen Jagdvereinen haben die Einladung mit Tagesordnung bereits per Post erhalten. \nAdresse für Ihr Navigationsgerät:\nStadthalle Limburg (Josef-Kohlmaier-Halle)\nHospitalstraße 4\, 65549 Limburg \nWeitere Parkmöglichkeiten: \nParkhaus C&A\nWerner-Senger-Str. 3\n65549 Limburg \nParkhaus\nGrabenstraße 26\, 65549 Limburg \nDie Jägerinnen und Jäger in Hessen sind zum Landesjägertag herzlich eingeladen! \nHinweis: Der gastgebende JK Limburg bietet anlässlich seines 100-jährigen Bestehens ein umfangreiches Rahmenprogramm an.
URL:https://usingerjaeger.de/event/hessischen-landesjaegertag-mit-landestrophaeenschau-2025
LOCATION:Josef-Kohlmaier-Halle\, Hospitalstraße 4\, Limburg\, Hessen\, 65549\, Germany
ORGANIZER;CN="LJV Hessen":MAILTO:info@ljv-hessen.de
END:VEVENT
END:VCALENDAR